BEGIN:VCALENDAR
VERSION:2.0
PRODID:-//Drupal//recurring_events_ical//2.0//EN
BEGIN:VEVENT
UID:686caa91-6730-4344-9b89-c8ad63f8d977@events.stage.louisville.edu
DTSTAMP:20260423T111448Z
DTSTART:20260530T113000Z
DTEND:20260530T173000Z
SUMMARY:2026 Neuro-Oncology Symposium: AI in Neuro-Oncology
CONTACT:Jordan Miller\, 5025887414\, email:jordan.morton@louisville.edu
DESCRIPTION:Central Nervous System cancers are complex, difficult to treat,
  and remain insufficiently understood and mostly incurable, despite decade
 s of research. Studies show Artificial Intelligence (AI) is poised to resh
 ape the field and research of neuro-oncology to drive advances in medical 
 imaging, biomarker discovery, therapeutic target identification, managemen
 t strategies, rehabilitation and more. During this course, we will examine
  the key opportunities and challenges associated with the use of AI in Neu
 ro-Oncology, including how it is applied in neuroradiology, neuropathology
 , neurosurgery and rehabilitation. Registration is free. CME credits, brea
 kfast and lunch will be provided.
URL:https://events.stage.louisville.edu/events/2026-neuro-oncology-symposiu
 m-ai-neuro-oncology/2026-05-30
END:VEVENT
END:VCALENDAR