BEGIN:VCALENDAR
VERSION:2.0
PRODID:-//Drupal//recurring_events_ical//2.0//EN
BEGIN:VEVENT
UID:eac7023f-3017-4ff4-9bca-407114cdb05a@events.stage.louisville.edu
DTSTAMP:20260424T010004Z
DTSTART:20250606T140000Z
DTEND:20250606T150000Z
SUMMARY:School of Dentistry DMD Program Virtual Information Session
CONTACT:DMD Student Admissions\, 502-852-5081\, email:dmdadms@louisville.ed
 u
DESCRIPTION:This session is designed for either prospective students planni
 ng to apply to the University of Louisville School of Dentistry (ULSD) in 
 a future application cycle or individuals planning to reapply to ULSD afte
 r an unsuccessful admissions cycle.\n\nAdmissions staff will provide an ov
 erview of the application process and provide insight on what to expect du
 ring your four years of dental education at ULSD.
URL:https://events.stage.louisville.edu/events/school-dentistry-dmd-program
 -virtual-information-session-3/2025-06-06
END:VEVENT
BEGIN:VEVENT
UID:3607442c-9c12-4061-b000-d636054d858a@events.stage.louisville.edu
DTSTAMP:20260424T010009Z
DTSTART:20250609T190000Z
DTEND:20250609T200000Z
SUMMARY:School of Dentistry DMD Program Virtual Information Session
CONTACT:DMD Student Admissions\, 502-852-5081\, email:dmdadms@louisville.ed
 u
DESCRIPTION:This session is designed for either prospective students planni
 ng to apply to the University of Louisville School of Dentistry (ULSD) in 
 a future application cycle or individuals planning to reapply to ULSD afte
 r an unsuccessful admissions cycle.\n\nAdmissions staff will provide an ov
 erview of the application process and provide insight on what to expect du
 ring your four years of dental education at ULSD.
URL:https://events.stage.louisville.edu/events/school-dentistry-dmd-program
 -virtual-information-session-3/2025-06-09
END:VEVENT
BEGIN:VEVENT
UID:27cef05b-8a74-4d33-8cf6-02bb31407a29@events.stage.louisville.edu
DTSTAMP:20260424T010301Z
DTSTART:20250616T170000Z
DTEND:20250616T180000Z
SUMMARY:School of Dentistry DMD Program Virtual Information Session
CONTACT:DMD Student Admissions\, 502-852-5081\, email:dmdadms@louisville.ed
 u
DESCRIPTION:This session is designed for either prospective students planni
 ng to apply to the University of Louisville School of Dentistry (ULSD) in 
 a future application cycle or individuals planning to reapply to ULSD afte
 r an unsuccessful admissions cycle.\n\nAdmissions staff will provide an ov
 erview of the application process and provide insight on what to expect du
 ring your four years of dental education at ULSD.
URL:https://events.stage.louisville.edu/events/school-dentistry-dmd-program
 -virtual-information-session-3/2025-06-16
END:VEVENT
BEGIN:VEVENT
UID:aee93d39-6ad5-46b0-a5c3-a319d89d956e@events.stage.louisville.edu
DTSTAMP:20260424T010404Z
DTSTART:20250627T153000Z
DTEND:20250627T163000Z
SUMMARY:School of Dentistry DMD Program Virtual Information Session
CONTACT:DMD Student Admissions\, 502-852-5081\, email:dmdadms@louisville.ed
 u
DESCRIPTION:This session is designed for either prospective students planni
 ng to apply to the University of Louisville School of Dentistry (ULSD) in 
 a future application cycle or individuals planning to reapply to ULSD afte
 r an unsuccessful admissions cycle.\n\nAdmissions staff will provide an ov
 erview of the application process and provide insight on what to expect du
 ring your four years of dental education at ULSD.
URL:https://events.stage.louisville.edu/events/school-dentistry-dmd-program
 -virtual-information-session-3/2025-06-27
END:VEVENT
BEGIN:VEVENT
UID:4ffb661d-032a-4585-a59e-3bbf9323e15d@events.stage.louisville.edu
DTSTAMP:20260424T010506Z
DTSTART:20250708T170000Z
DTEND:20250708T180000Z
SUMMARY:School of Dentistry DMD Program Virtual Information Session
CONTACT:DMD Student Admissions\, 502-852-5081\, email:dmdadms@louisville.ed
 u
DESCRIPTION:This session is designed for either prospective students planni
 ng to apply to the University of Louisville School of Dentistry (ULSD) in 
 a future application cycle or individuals planning to reapply to ULSD afte
 r an unsuccessful admissions cycle.\n\nAdmissions staff will provide an ov
 erview of the application process and provide insight on what to expect du
 ring your four years of dental education at ULSD.
URL:https://events.stage.louisville.edu/events/school-dentistry-dmd-program
 -virtual-information-session-3/2025-07-08
END:VEVENT
BEGIN:VEVENT
UID:46943467-6139-4879-b6d0-b526719911fc@events.stage.louisville.edu
DTSTAMP:20260424T010522Z
DTSTART:20250724T160000Z
DTEND:20250724T170000Z
SUMMARY:School of Dentistry DMD Program Virtual Information Session
CONTACT:DMD Student Admissions\, 502-852-5081\, email:dmdadms@louisville.ed
 u
DESCRIPTION:This session is designed for either prospective students planni
 ng to apply to the University of Louisville School of Dentistry (ULSD) in 
 a future application cycle or individuals planning to reapply to ULSD afte
 r an unsuccessful admissions cycle.\n\nAdmissions staff will provide an ov
 erview of the application process and provide insight on what to expect du
 ring your four years of dental education at ULSD.
URL:https://events.stage.louisville.edu/events/school-dentistry-dmd-program
 -virtual-information-session-3/2025-07-24
END:VEVENT
BEGIN:VEVENT
UID:6efba07f-9442-44d1-9b68-c9f7ff1aa9eb@events.stage.louisville.edu
DTSTAMP:20260424T010527Z
DTSTART:20250820T140000Z
DTEND:20250820T150000Z
SUMMARY:School of Dentistry DMD Program Virtual Information Session
CONTACT:DMD Student Admissions\, 502-852-5081\, email:dmdadms@louisville.ed
 u
DESCRIPTION:This session is designed for either prospective students planni
 ng to apply to the University of Louisville School of Dentistry (ULSD) in 
 a future application cycle or individuals planning to reapply to ULSD afte
 r an unsuccessful admissions cycle.\n\nAdmissions staff will provide an ov
 erview of the application process and provide insight on what to expect du
 ring your four years of dental education at ULSD.
URL:https://events.stage.louisville.edu/events/school-dentistry-dmd-program
 -virtual-information-session-3/2025-08-20
END:VEVENT
BEGIN:VEVENT
UID:24210fd9-83b7-4867-a2dc-cc74721761da@events.stage.louisville.edu
DTSTAMP:20260424T010536Z
DTSTART:20250918T180000Z
DTEND:20250918T190000Z
SUMMARY:School of Dentistry DMD Program Virtual Information Session
CONTACT:DMD Student Admissions\, 502-852-5081\, email:dmdadms@louisville.ed
 u
DESCRIPTION:This session is designed for either prospective students planni
 ng to apply to the University of Louisville School of Dentistry (ULSD) in 
 a future application cycle or individuals planning to reapply to ULSD afte
 r an unsuccessful admissions cycle.\n\nAdmissions staff will provide an ov
 erview of the application process and provide insight on what to expect du
 ring your four years of dental education at ULSD.
URL:https://events.stage.louisville.edu/events/school-dentistry-dmd-program
 -virtual-information-session-3/2025-09-18
END:VEVENT
BEGIN:VEVENT
UID:f3d1d3a7-9852-4883-a13d-2a6ce454016b@events.stage.louisville.edu
DTSTAMP:20260424T010611Z
DTSTART:20251022T160000Z
DTEND:20251022T170000Z
SUMMARY:School of Dentistry DMD Program Virtual Information Session
CONTACT:DMD Student Admissions\, 502-852-5081\, email:dmdadms@louisville.ed
 u
DESCRIPTION:This session is designed for either prospective students planni
 ng to apply to the University of Louisville School of Dentistry (ULSD) in 
 a future application cycle or individuals planning to reapply to ULSD afte
 r an unsuccessful admissions cycle.\n\nAdmissions staff will provide an ov
 erview of the application process and provide insight on what to expect du
 ring your four years of dental education at ULSD.
URL:https://events.stage.louisville.edu/events/school-dentistry-dmd-program
 -virtual-information-session-3/2025-10-22
END:VEVENT
BEGIN:VEVENT
UID:0eed263d-1710-4775-af7f-c22adaed79c8@events.stage.louisville.edu
DTSTAMP:20260424T010721Z
DTSTART:20251120T160000Z
DTEND:20251120T170000Z
SUMMARY:School of Dentistry DMD Program Virtual Information Session
CONTACT:DMD Student Admissions\, 502-852-5081\, email:dmdadms@louisville.ed
 u
DESCRIPTION:This session is designed for either prospective students planni
 ng to apply to the University of Louisville School of Dentistry (ULSD) in 
 a future application cycle or individuals planning to reapply to ULSD afte
 r an unsuccessful admissions cycle.\n\nAdmissions staff will provide an ov
 erview of the application process and provide insight on what to expect du
 ring your four years of dental education at ULSD.
URL:https://events.stage.louisville.edu/events/school-dentistry-dmd-program
 -virtual-information-session-3/2025-11-20
END:VEVENT
BEGIN:VEVENT
UID:7dc277c0-4fd4-4b8f-91ce-d544a254ae6b@events.stage.louisville.edu
DTSTAMP:20260424T010726Z
DTSTART:20251208T200000Z
DTEND:20251208T210000Z
SUMMARY:School of Dentistry DMD Program Virtual Information Session
CONTACT:DMD Student Admissions\, 502-852-5081\, email:dmdadms@louisville.ed
 u
DESCRIPTION:This session is designed for either prospective students planni
 ng to apply to the University of Louisville School of Dentistry (ULSD) in 
 a future application cycle or individuals planning to reapply to ULSD afte
 r an unsuccessful admissions cycle.\n\nAdmissions staff will provide an ov
 erview of the application process and provide insight on what to expect du
 ring your four years of dental education at ULSD.
URL:https://events.stage.louisville.edu/events/school-dentistry-dmd-program
 -virtual-information-session-3/2025-12-08
END:VEVENT
BEGIN:VEVENT
UID:84e953e7-204c-4e90-8a0f-2f7ea73bd997@events.stage.louisville.edu
DTSTAMP:20260424T010823Z
DTSTART:20260120T160000Z
DTEND:20260120T170000Z
SUMMARY:School of Dentistry DMD Program Virtual Information Session
CONTACT:DMD Student Admissions\, 502-852-5081\, email:dmdadms@louisville.ed
 u
DESCRIPTION:This session is designed for either prospective students planni
 ng to apply to the University of Louisville School of Dentistry (ULSD) in 
 a future application cycle or individuals planning to reapply to ULSD afte
 r an unsuccessful admissions cycle.\n\nAdmissions staff will provide an ov
 erview of the application process and provide insight on what to expect du
 ring your four years of dental education at ULSD.
URL:https://events.stage.louisville.edu/events/school-dentistry-dmd-program
 -virtual-information-session-3/2026-01-20
END:VEVENT
BEGIN:VEVENT
UID:a1395896-9102-490e-a8b7-6106a23c48d2@events.stage.louisville.edu
DTSTAMP:20260424T011022Z
DTSTART:20260317T140000Z
DTEND:20260317T150000Z
SUMMARY:School of Dentistry DMD Program Virtual Information Session
CONTACT:DMD Student Admissions\, 502-852-5081\, email:dmdadms@louisville.ed
 u
DESCRIPTION:This session is designed for either prospective students planni
 ng to apply to the University of Louisville School of Dentistry (ULSD) in 
 a future application cycle or individuals planning to reapply to ULSD afte
 r an unsuccessful admissions cycle.\n\nAdmissions staff will provide an ov
 erview of the application process and provide insight on what to expect du
 ring your four years of dental education at ULSD.
URL:https://events.stage.louisville.edu/events/school-dentistry-dmd-program
 -virtual-information-session-3/2026-03-17
END:VEVENT
BEGIN:VEVENT
UID:89f526c7-a254-445f-b90b-cbc8acef3e2f@events.stage.louisville.edu
DTSTAMP:20260424T011147Z
DTSTART:20260401T180000Z
DTEND:20260401T190000Z
SUMMARY:School of Dentistry DMD Program Virtual Information Session
CONTACT:DMD Student Admissions\, 502-852-5081\, email:dmdadms@louisville.ed
 u
DESCRIPTION:This session is designed for either prospective students planni
 ng to apply to the University of Louisville School of Dentistry (ULSD) in 
 a future application cycle or individuals planning to reapply to ULSD afte
 r an unsuccessful admissions cycle.\n\nAdmissions staff will provide an ov
 erview of the application process and provide insight on what to expect du
 ring your four years of dental education at ULSD.
URL:https://events.stage.louisville.edu/events/school-dentistry-dmd-program
 -virtual-information-session-3/2026-04-01
END:VEVENT
BEGIN:VEVENT
UID:f8fa5636-69e6-4a03-ac77-6c6aaa0fa754@events.stage.louisville.edu
DTSTAMP:20260424T011152Z
DTSTART:20260417T160000Z
DTEND:20260417T170000Z
SUMMARY:School of Dentistry DMD Program Virtual Information Session
CONTACT:DMD Student Admissions\, 502-852-5081\, email:dmdadms@louisville.ed
 u
DESCRIPTION:This session is designed for either prospective students planni
 ng to apply to the University of Louisville School of Dentistry (ULSD) in 
 a future application cycle or individuals planning to reapply to ULSD afte
 r an unsuccessful admissions cycle.\n\nAdmissions staff will provide an ov
 erview of the application process and provide insight on what to expect du
 ring your four years of dental education at ULSD.
URL:https://events.stage.louisville.edu/events/school-dentistry-dmd-program
 -virtual-information-session-3/2026-04-17
END:VEVENT
BEGIN:VEVENT
UID:ab05f41e-d075-4b41-9c77-dceea1128287@events.stage.louisville.edu
DTSTAMP:20260423T171744Z
DTSTART:20260505T133000Z
DTEND:20260505T143000Z
SUMMARY:School of Dentistry DMD Program Virtual Information Session
CONTACT:DMD Student Admissions\, 502-852-5081\, email:dmdadms@louisville.ed
 u
DESCRIPTION:This session is designed for either prospective students planni
 ng to apply to the University of Louisville School of Dentistry (ULSD) in 
 a future application cycle or individuals planning to reapply to ULSD afte
 r an unsuccessful admissions cycle.\n\nAdmissions staff will provide an ov
 erview of the application process and provide insight on what to expect du
 ring your four years of dental education at ULSD.
URL:https://events.stage.louisville.edu/events/school-dentistry-dmd-program
 -virtual-information-session-3/2026-05-05
END:VEVENT
BEGIN:VEVENT
UID:dd832c92-f38e-4a4d-9dda-680857f1c787@events.stage.louisville.edu
DTSTAMP:20260423T232222Z
DTSTART:20260513T180000Z
DTEND:20260513T190000Z
SUMMARY:School of Dentistry DMD Program Virtual Information Session
CONTACT:DMD Student Admissions\, 502-852-5081\, email:dmdadms@louisville.ed
 u
DESCRIPTION:This session is designed for either prospective students planni
 ng to apply to the University of Louisville School of Dentistry (ULSD) in 
 a future application cycle or individuals planning to reapply to ULSD afte
 r an unsuccessful admissions cycle.\n\nAdmissions staff will provide an ov
 erview of the application process and provide insight on what to expect du
 ring your four years of dental education at ULSD.
URL:https://events.stage.louisville.edu/events/school-dentistry-dmd-program
 -virtual-information-session-3/2026-05-13
END:VEVENT
BEGIN:VEVENT
UID:4a21729a-52c3-4699-ac41-844bfa18885f@events.stage.louisville.edu
DTSTAMP:20260423T232227Z
DTSTART:20260520T133000Z
DTEND:20260520T143000Z
SUMMARY:School of Dentistry DMD Program Virtual Information Session
CONTACT:DMD Student Admissions\, 502-852-5081\, email:dmdadms@louisville.ed
 u
DESCRIPTION:This session is designed for either prospective students planni
 ng to apply to the University of Louisville School of Dentistry (ULSD) in 
 a future application cycle or individuals planning to reapply to ULSD afte
 r an unsuccessful admissions cycle.\n\nAdmissions staff will provide an ov
 erview of the application process and provide insight on what to expect du
 ring your four years of dental education at ULSD.
URL:https://events.stage.louisville.edu/events/school-dentistry-dmd-program
 -virtual-information-session-3/2026-05-20
END:VEVENT
BEGIN:VEVENT
UID:6e8f7c76-7e72-47a8-8ed3-fbf93f41282c@events.stage.louisville.edu
DTSTAMP:20260423T232250Z
DTSTART:20260528T190000Z
DTEND:20260528T200000Z
SUMMARY:School of Dentistry DMD Program Virtual Information Session
CONTACT:DMD Student Admissions\, 502-852-5081\, email:dmdadms@louisville.ed
 u
DESCRIPTION:This session is designed for either prospective students planni
 ng to apply to the University of Louisville School of Dentistry (ULSD) in 
 a future application cycle or individuals planning to reapply to ULSD afte
 r an unsuccessful admissions cycle.\n\nAdmissions staff will provide an ov
 erview of the application process and provide insight on what to expect du
 ring your four years of dental education at ULSD.
URL:https://events.stage.louisville.edu/events/school-dentistry-dmd-program
 -virtual-information-session-3/2026-05-28
END:VEVENT
BEGIN:VEVENT
UID:94008d95-8d3a-47d6-82ec-f8194bf1e5a6@events.stage.louisville.edu
DTSTAMP:20260423T232317Z
DTSTART:20270209T180000Z
DTEND:20270209T190000Z
SUMMARY:School of Dentistry DMD Program Virtual Information Session
CONTACT:DMD Student Admissions\, 502-852-5081\, email:dmdadms@louisville.ed
 u
DESCRIPTION:This session is designed for either prospective students planni
 ng to apply to the University of Louisville School of Dentistry (ULSD) in 
 a future application cycle or individuals planning to reapply to ULSD afte
 r an unsuccessful admissions cycle.\n\nAdmissions staff will provide an ov
 erview of the application process and provide insight on what to expect du
 ring your four years of dental education at ULSD.
URL:https://events.stage.louisville.edu/events/school-dentistry-dmd-program
 -virtual-information-session-3/2027-02-09
END:VEVENT
END:VCALENDAR